BEGIN:VCALENDAR
VERSION:2.0
PRODID:-//Merafe People Solutions - ECPv6.15.20//NONSGML v1.0//EN
CALSCALE:GREGORIAN
METHOD:PUBLISH
X-WR-CALNAME:Merafe People Solutions
X-ORIGINAL-URL:https://merafesolutions.co.za
X-WR-CALDESC:Events for Merafe People Solutions
REFRESH-INTERVAL;VALUE=DURATION:PT1H
X-Robots-Tag:noindex
X-PUBLISHED-TTL:PT1H
BEGIN:VTIMEZONE
TZID:UTC
BEGIN:STANDARD
TZOFFSETFROM:+0000
TZOFFSETTO:+0000
TZNAME:UTC
DTSTART:20220101T000000
END:STANDARD
END:VTIMEZONE
BEGIN:VEVENT
DTSTART;TZID=UTC:20240207T080000
DTEND;TZID=UTC:20240207T170000
DTSTAMP:20260419T150204
CREATED:20240109T122709Z
LAST-MODIFIED:20240109T122709Z
UID:5596-1707292800-1707325200@merafesolutions.co.za
SUMMARY:Sales Strategies and Tactics Training
DESCRIPTION:This course helps with enhanced skills and strategies to help achieve growth in the business. It helps identify clients’ needs and approaches required to meet those needs. \nPlease enable JavaScript in your browser to complete this form.Name *FirstLastEmail *NumbersComment *Submit now
URL:https://merafesolutions.co.za/event/sales-strategies-and-tactics-training/
LOCATION:Open Hosted\, Johannesburg\, Johannesburg\, Gauteng\, 2194\, South Africa
ORGANIZER;CN="Merafe People Solutions":MAILTO:info@merafesolutions.co.za
END:VEVENT
BEGIN:VEVENT
DTSTART;TZID=UTC:20240206T080000
DTEND;TZID=UTC:20240206T170000
DTSTAMP:20260419T150204
CREATED:20240109T123331Z
LAST-MODIFIED:20240109T123356Z
UID:5604-1707206400-1707238800@merafesolutions.co.za
SUMMARY:Operations and HR management Training
DESCRIPTION:The course covers operational human resources for a day-to-day functionality of the business and management of HR transactions. The course will cover all the basic HR touch points for small businesses. \nPlease enable JavaScript in your browser to complete this form.Name *FirstLastEmail *NumbersComment *Submit now  \nHR Courses
URL:https://merafesolutions.co.za/event/operations-and-hr-management-training-2/
LOCATION:Open Hosted\, Johannesburg\, Johannesburg\, Gauteng\, 2194\, South Africa
ORGANIZER;CN="Merafe People Solutions":MAILTO:info@merafesolutions.co.za
END:VEVENT
BEGIN:VEVENT
DTSTART;TZID=UTC:20240206T080000
DTEND;TZID=UTC:20240206T170000
DTSTAMP:20260419T150204
CREATED:20240109T122239Z
LAST-MODIFIED:20240109T122239Z
UID:5593-1707206400-1707238800@merafesolutions.co.za
SUMMARY:Marketing and Communications Training
DESCRIPTION:The course covers basic marketing and communications skills required for a small business. The course covers clear\, consistent marketing and branding that will help communicate the business social mission to funders\, customers and all other stakeholders. \nPlease enable JavaScript in your browser to complete this form.Name *FirstLastEmail *NumbersComment *Submit now
URL:https://merafesolutions.co.za/event/marketing-and-communications-training/
LOCATION:Open Hosted\, Johannesburg\, Johannesburg\, Gauteng\, 2194\, South Africa
ORGANIZER;CN="Merafe People Solutions":MAILTO:info@merafesolutions.co.za
END:VEVENT
BEGIN:VEVENT
DTSTART;TZID=UTC:20240205T080000
DTEND;TZID=UTC:20240205T170000
DTSTAMP:20260419T150204
CREATED:20240109T113133Z
LAST-MODIFIED:20240109T120912Z
UID:5591-1707120000-1707152400@merafesolutions.co.za
SUMMARY:Risk Management and Insurance Training
DESCRIPTION:The course teaches risk management as a formal and methodological process of managing risk at various societal levels\, such as business\, commerce\, household\, community or national to ensure that the adverse outcomes are avoided or minimised and maximise the opportunities that risk creates. \nPlease enable JavaScript in your browser to complete this form.Name *FirstLastEmail *NumbersComment *Submit now
URL:https://merafesolutions.co.za/event/risk-management-and-insurance-training/
LOCATION:Open Hosted\, Johannesburg\, Johannesburg\, Gauteng\, 2194\, South Africa
ORGANIZER;CN="Merafe People Solutions":MAILTO:info@merafesolutions.co.za
END:VEVENT
BEGIN:VEVENT
DTSTART;TZID=UTC:20240202T080000
DTEND;TZID=UTC:20240202T170000
DTSTAMP:20260419T150204
CREATED:20240109T112428Z
LAST-MODIFIED:20240109T112428Z
UID:5589-1706860800-1706893200@merafesolutions.co.za
SUMMARY:Operations and HR management Training
DESCRIPTION:The course covers operational human resources for a day-to-day functionality of the business and management of HR transactions. The course will cover all the basic HR touch points for small businesses. \nPlease enable JavaScript in your browser to complete this form.Name *FirstLastEmail *NumbersComment *Submit now  \nHR Courses
URL:https://merafesolutions.co.za/event/operations-and-hr-management-training/
LOCATION:Open Hosted\, Johannesburg\, Johannesburg\, Gauteng\, 2194\, South Africa
ORGANIZER;CN="Merafe People Solutions":MAILTO:info@merafesolutions.co.za
END:VEVENT
BEGIN:VEVENT
DTSTART;TZID=UTC:20240201T080000
DTEND;TZID=UTC:20240201T170000
DTSTAMP:20260419T150204
CREATED:20240109T111250Z
LAST-MODIFIED:20240109T111250Z
UID:5586-1706774400-1706806800@merafesolutions.co.za
SUMMARY:Business Planning and Administration Training
DESCRIPTION:This course equips business leaders and entrepreneurs with skills required for managing business operations. It covers the overall planning of the business and the execution of the set plans. \nPlease enable JavaScript in your browser to complete this form.Name *FirstLastEmail *NumbersComment *Submit now
URL:https://merafesolutions.co.za/event/business-planning-and-administration-training/
LOCATION:Open Hosted\, Johannesburg\, Johannesburg\, Gauteng\, 2194\, South Africa
ORGANIZER;CN="Merafe People Solutions":MAILTO:info@merafesolutions.co.za
END:VEVENT
BEGIN:VEVENT
DTSTART;TZID=UTC:20240130T080000
DTEND;TZID=UTC:20240130T170000
DTSTAMP:20260419T150204
CREATED:20240109T110038Z
LAST-MODIFIED:20240109T110656Z
UID:5584-1706601600-1706634000@merafesolutions.co.za
SUMMARY:Strategy Development and Execution Training
DESCRIPTION:This course will help a leader of the organization to bridge the costly and wasteful gap between strategy design and delivery. They will learn how external and internal factors impact the organizations’ capability to implement strategies. \nPlease enable JavaScript in your browser to complete this form.Name *FirstLastEmail *NumbersComment *Submit now
URL:https://merafesolutions.co.za/event/strategy-development-and-execution-training/
LOCATION:Open Hosted\, Johannesburg\, Johannesburg\, Gauteng\, 2194\, South Africa
ORGANIZER;CN="Merafe People Solutions":MAILTO:info@merafesolutions.co.za
END:VEVENT
BEGIN:VEVENT
DTSTART;TZID=UTC:20240129T080000
DTEND;TZID=UTC:20240129T170000
DTSTAMP:20260419T150204
CREATED:20240109T105804Z
LAST-MODIFIED:20240109T105804Z
UID:5581-1706515200-1706547600@merafesolutions.co.za
SUMMARY:Personal and Organisational Effectiveness Training
DESCRIPTION:This course focuses on using various tools and skills to achieve business goals and maximize resources for personal and business growth. \nPlease enable JavaScript in your browser to complete this form.Name *FirstLastEmail *NumbersComment *Submit now
URL:https://merafesolutions.co.za/event/personal-and-organisational-effectiveness-training/
LOCATION:Open Hosted\, Johannesburg\, Johannesburg\, Gauteng\, 2194\, South Africa
ORGANIZER;CN="Merafe People Solutions":MAILTO:info@merafesolutions.co.za
END:VEVENT
BEGIN:VEVENT
DTSTART;TZID=UTC:20240126T080000
DTEND;TZID=UTC:20240126T170000
DTSTAMP:20260419T150204
CREATED:20240109T105414Z
LAST-MODIFIED:20240109T105414Z
UID:5578-1706256000-1706288400@merafesolutions.co.za
SUMMARY:Leadership Skills for New Managers
DESCRIPTION:This course is designed to empower newly appointed managers with essential skills for effective leadership and team management \nPlease enable JavaScript in your browser to complete this form.Name *FirstLastEmail *NumbersComment *Submit now
URL:https://merafesolutions.co.za/event/leadership-skills-for-new-managers/
LOCATION:Open Hosted\, Johannesburg\, Johannesburg\, Gauteng\, 2194\, South Africa
ORGANIZER;CN="Merafe People Solutions":MAILTO:info@merafesolutions.co.za
END:VEVENT
BEGIN:VEVENT
DTSTART;TZID=UTC:20240125T080000
DTEND;TZID=UTC:20240125T170000
DTSTAMP:20260419T150204
CREATED:20240109T104659Z
LAST-MODIFIED:20240109T104659Z
UID:5575-1706169600-1706202000@merafesolutions.co.za
SUMMARY:Compensation for Occupation Injuries and Diseases Act Training
DESCRIPTION:Purpose of this course is to unpack the Act and the administration and the conditions for eligibility for compensation.Please enable JavaScript in your browser to complete this form.Name *FirstLastEmail *NumbersComment *Submit now
URL:https://merafesolutions.co.za/event/compensation-for-occupation-injuries-and-diseases-act-training/
LOCATION:Open Hosted\, Johannesburg\, Johannesburg\, Gauteng\, 2194\, South Africa
ORGANIZER;CN="Merafe People Solutions":MAILTO:info@merafesolutions.co.za
END:VEVENT
BEGIN:VEVENT
DTSTART;TZID=UTC:20240124T080000
DTEND;TZID=UTC:20240124T170000
DTSTAMP:20260419T150204
CREATED:20240109T104333Z
LAST-MODIFIED:20240109T104333Z
UID:5573-1706083200-1706115600@merafesolutions.co.za
SUMMARY:Skills Development Committee Training
DESCRIPTION:Talent Acquisition professionals who want to make a bigger strategic impact on their organization.Please enable JavaScript in your browser to complete this form.Name *FirstLastEmail *NumbersComment *Submit now   \nHR Courses
URL:https://merafesolutions.co.za/event/skills-development-committee-training/
LOCATION:Open Hosted\, Johannesburg\, Johannesburg\, Gauteng\, 2194\, South Africa
ORGANIZER;CN="Merafe People Solutions":MAILTO:info@merafesolutions.co.za
END:VEVENT
BEGIN:VEVENT
DTSTART;TZID=UTC:20240123T080000
DTEND;TZID=UTC:20240123T170000
DTSTAMP:20260419T150204
CREATED:20240109T104143Z
LAST-MODIFIED:20240109T104143Z
UID:5571-1705996800-1706029200@merafesolutions.co.za
SUMMARY:Employment Equity Training
DESCRIPTION:This program will help you integrate and align talent management and succession planning practices\, foster a talent mindset\, and define a clear talent philosophy.Please enable JavaScript in your browser to complete this form.Name *FirstLastEmail *NumbersComment *Submit now
URL:https://merafesolutions.co.za/event/employment-equity-training/
LOCATION:Open Hosted\, Johannesburg\, Johannesburg\, Gauteng\, 2194\, South Africa
ORGANIZER;CN="Merafe People Solutions":MAILTO:info@merafesolutions.co.za
END:VEVENT
BEGIN:VEVENT
DTSTART;TZID=UTC:20240122T080000
DTEND;TZID=UTC:20240122T170000
DTSTAMP:20260419T150204
CREATED:20240109T103743Z
LAST-MODIFIED:20240109T103743Z
UID:5568-1705910400-1705942800@merafesolutions.co.za
SUMMARY:Incapacity\, Poor Performance & Ill-Health Training
DESCRIPTION:This course gives insight into the legal requirements of dismissal for Incapacity poor performance and ILL Health in terms of the Code of Good Practice.Please enable JavaScript in your browser to complete this form.Name *FirstLastEmail *NumbersComment *Submit now
URL:https://merafesolutions.co.za/event/incapacity-poor-performance-ill-health-training/
LOCATION:Open Hosted\, Johannesburg\, Johannesburg\, Gauteng\, 2194\, South Africa
ORGANIZER;CN="Merafe People Solutions":MAILTO:info@merafesolutions.co.za
END:VEVENT
BEGIN:VEVENT
DTSTART;TZID=UTC:20240119T080000
DTEND;TZID=UTC:20240119T170000
DTSTAMP:20260419T150204
CREATED:20240109T103429Z
LAST-MODIFIED:20240109T103429Z
UID:5566-1705651200-1705683600@merafesolutions.co.za
SUMMARY:Managing Workplace Discipline Training
DESCRIPTION:This course prepares managers\, HR Representatives and shop stewards in dealing with topics of discipline and dismissal.Please enable JavaScript in your browser to complete this form.Name *FirstLastEmail *NumbersComment *Submit now
URL:https://merafesolutions.co.za/event/managing-workplace-discipline-training/
LOCATION:Open Hosted\, Johannesburg\, Johannesburg\, Gauteng\, 2194\, South Africa
ORGANIZER;CN="Merafe People Solutions":MAILTO:info@merafesolutions.co.za
END:VEVENT
BEGIN:VEVENT
DTSTART;TZID=UTC:20240116T080000
DTEND;TZID=UTC:20240116T170000
DTSTAMP:20260419T150204
CREATED:20240109T101229Z
LAST-MODIFIED:20240109T101229Z
UID:5555-1705392000-1705424400@merafesolutions.co.za
SUMMARY:Strategic Talent Acquisition Training
DESCRIPTION:Talent Acquisition professionals who want to make a bigger strategic impact on their organization.Please enable JavaScript in your browser to complete this form.Name *FirstLastEmail *NumbersComment *Submit now
URL:https://merafesolutions.co.za/event/strategic-talent-acquisition-training/
LOCATION:Open Hosted\, Johannesburg\, Johannesburg\, Gauteng\, 2194\, South Africa
ORGANIZER;CN="Merafe People Solutions":MAILTO:info@merafesolutions.co.za
END:VEVENT
BEGIN:VEVENT
DTSTART;TZID=UTC:20240115T080000
DTEND;TZID=UTC:20240115T170000
DTSTAMP:20260419T150204
CREATED:20240109T100039Z
LAST-MODIFIED:20240109T100039Z
UID:5550-1705305600-1705338000@merafesolutions.co.za
SUMMARY:Talent Management and Succession Planning Training
DESCRIPTION:This program will help you integrate and align talent management and succession planning practices\, foster a talent mindset\, and define a clear talent philosophy. \nHR Courses
URL:https://merafesolutions.co.za/event/talent-management-and-succession-planning-training/
LOCATION:Open Hosted\, Johannesburg\, Johannesburg\, Gauteng\, 2194\, South Africa
ORGANIZER;CN="Merafe People Solutions":MAILTO:info@merafesolutions.co.za
END:VEVENT
BEGIN:VEVENT
DTSTART;TZID=UTC:20240111T080000
DTEND;TZID=UTC:20240111T170000
DTSTAMP:20260419T150204
CREATED:20240109T102750Z
LAST-MODIFIED:20240109T102750Z
UID:5561-1704960000-1704992400@merafesolutions.co.za
SUMMARY:Basic Labour Relations - LRA & BCEA
DESCRIPTION:This workshop will introduce the delegate to basic conditions\, employment contracts and employment law in general.Please enable JavaScript in your browser to complete this form.Name *FirstLastEmail *NumbersComment *Submit now   \nHR Courses
URL:https://merafesolutions.co.za/event/basic-labour-relations-lra-bcea/
LOCATION:Open Hosted\, Johannesburg\, Johannesburg\, Gauteng\, 2194\, South Africa
ORGANIZER;CN="Merafe People Solutions":MAILTO:info@merafesolutions.co.za
END:VEVENT
BEGIN:VEVENT
DTSTART;TZID=UTC:20240109T080000
DTEND;TZID=UTC:20240109T170000
DTSTAMP:20260419T150204
CREATED:20240109T103118Z
LAST-MODIFIED:20240109T103118Z
UID:5563-1704787200-1704819600@merafesolutions.co.za
SUMMARY:Dealing With Workplace Grievances
DESCRIPTION:This Course is designed to provide employers with practical steps and procedures to identify and resolve conflict and grievances between employees and managers in a pro-active and successful manner.Please enable JavaScript in your browser to complete this form.Name *FirstLastEmail *NumbersComment *Submit now
URL:https://merafesolutions.co.za/event/dealing-with-workplace-grievances/
LOCATION:Open Hosted\, Johannesburg\, Johannesburg\, Gauteng\, 2194\, South Africa
ORGANIZER;CN="Merafe People Solutions":MAILTO:info@merafesolutions.co.za
END:VEVENT
BEGIN:VEVENT
DTSTART;TZID=UTC:20240109T080000
DTEND;TZID=UTC:20240109T170000
DTSTAMP:20260419T150204
CREATED:20240109T101715Z
LAST-MODIFIED:20240109T101917Z
UID:5558-1704787200-1704819600@merafesolutions.co.za
SUMMARY:Human Resources in a scaling Business Training
DESCRIPTION:This course is targeted at HR Managers in small businesses that are scaling.Please enable JavaScript in your browser to complete this form.Name *FirstLastEmail *NumbersComment *Submit now
URL:https://merafesolutions.co.za/event/human-resources-in-a-scaling-business-training/
LOCATION:Open Hosted\, Johannesburg\, Johannesburg\, Gauteng\, 2194\, South Africa
ORGANIZER;CN="Merafe People Solutions":MAILTO:info@merafesolutions.co.za
END:VEVENT
BEGIN:VEVENT
DTSTART;TZID=UTC:20230630T090000
DTEND;TZID=UTC:20230630T140000
DTSTAMP:20260419T150204
CREATED:20230207T005120Z
LAST-MODIFIED:20230207T005120Z
UID:5518-1688115600-1688133600@merafesolutions.co.za
SUMMARY:Salt and Pepper Master Class
DESCRIPTION:Personality Styles\nStrategic Planning\nCreating Personal Culture
URL:https://merafesolutions.co.za/event/salt-and-pepper-master-class-11/
LOCATION:Gauteng
END:VEVENT
BEGIN:VEVENT
DTSTART;TZID=UTC:20230630T090000
DTEND;TZID=UTC:20230630T140000
DTSTAMP:20260419T150204
CREATED:20230207T004047Z
LAST-MODIFIED:20230207T004047Z
UID:5496-1688115600-1688133600@merafesolutions.co.za
SUMMARY:Self Awareness Master Class
DESCRIPTION:Taking Ownership of your Life\nPersonal Branding\nSettling into a New Mental Space
URL:https://merafesolutions.co.za/event/self-awareness-master-class-11/
LOCATION:Gauteng
END:VEVENT
BEGIN:VEVENT
DTSTART;TZID=UTC:20230629T080000
DTEND;TZID=UTC:20230629T170000
DTSTAMP:20260419T150204
CREATED:20230206T235932Z
LAST-MODIFIED:20230206T235932Z
UID:5430-1688025600-1688058000@merafesolutions.co.za
SUMMARY:Assertiveness Training
DESCRIPTION:Open Hosted \nBeing assertive allows you to communicate your wants and needs more authoritatively while remaining fair and empathetic. It can also help you become more self-confident and improve your mental health. \nAssertiveness provides several other benefits that can help you both in your workplace and in other areas of your life. \nCourse Outcomes: \n\nLearn assertive communication techniques\nNegotiate better\nBeing direct without being rude\nPreserve personal autonomy\nDeal with criticism\, confrontation\, and anger effectively\nlearn techniques to develop a better working relationship
URL:https://merafesolutions.co.za/event/assertiveness-training-10/
LOCATION:Gauteng
END:VEVENT
BEGIN:VEVENT
DTSTART;TZID=UTC:20230629T080000
DTEND;TZID=UTC:20230629T170000
DTSTAMP:20260419T150204
CREATED:20230206T234803Z
LAST-MODIFIED:20230206T234803Z
UID:5410-1688025600-1688058000@merafesolutions.co.za
SUMMARY:Effective Presentation Skills Training
DESCRIPTION:Open Hosted \nEffective Presentation Skills is a highly practical course that will enable you to develop core presentation skills and give you the opportunity to practise these skills in a safe and friendly environment. \nCourse Outcomes: \n\nThe confidence to deliver effective presentations\nStrategies for managing nerves\nA clear framework for structuring a presentation\nMethods for highlighting and emphasising key messages\nThe skills to use and control your voice more effectively when giving presentations\nPractical techniques to interpret and engage your audience
URL:https://merafesolutions.co.za/event/effective-presentation-skills-training-12/
LOCATION:Gauteng
END:VEVENT
BEGIN:VEVENT
DTSTART;TZID=UTC:20230628T080000
DTEND;TZID=UTC:20230628T170000
DTSTAMP:20260419T150204
CREATED:20230207T001216Z
LAST-MODIFIED:20230207T001216Z
UID:5454-1687939200-1687971600@merafesolutions.co.za
SUMMARY:Emotional Intelligence Training
DESCRIPTION:Open Hosted \nIt’s the most sought-after skill for a very good reason. People with emotional intelligence get results \nthrough people and get what they want – 80% of the time. Everyone needs to make more of an effort to understand their own and others’ feelings\, to create \nwin-win situations and relationships. The way we act\, respond\, and treat others is a choice. Applied to work and personal environment \nCourse Outcomes: \n\nUnderstand your own behavior and those of others – a scientific approach\nLearn to control your emotions and reactions\nBuild solid relationship\nManaging your emotional energy\nGet results through people (applied to customer service\, sales\, management and other)\nFocus on common goals\, versus personal feelings (control emotions
URL:https://merafesolutions.co.za/event/emotional-intelligence-training-11/
LOCATION:Gauteng
END:VEVENT
BEGIN:VEVENT
DTSTART;TZID=UTC:20230627T080000
DTEND;TZID=UTC:20230627T170000
DTSTAMP:20260419T150204
CREATED:20230206T233528Z
LAST-MODIFIED:20230206T233528Z
UID:5386-1687852800-1687885200@merafesolutions.co.za
SUMMARY:Sales Excellence Training
DESCRIPTION:Open Hosted \nThis programme is intended to create a systematic approach to Sales by teaching the Sales Force to Develop a relationship that provides stability and growth with potential customers and adds value to the customers’ business. Upon completion of this course\, the Sales Force will be able to capitalise on the opportunities a customer presents and create a competitive advantage \nCourse Outcomes: \n\nCreating Sales Opportunities\nIdentifying Your Ideal Client\nEliminate the fear of cold calling\nInfluencing the Decision\nAnalysing the customer’s short-term and long-term buying cycles\nDiscover Your Client’s Buying Strategy\nImpact of the Client’s Problem\nValue Added Advantage\nInfluencing Techniques\nEmotional Intelligence
URL:https://merafesolutions.co.za/event/sales-excellence-training-10/
LOCATION:Gauteng
END:VEVENT
BEGIN:VEVENT
DTSTART;TZID=UTC:20230622T080000
DTEND;TZID=UTC:20230622T170000
DTSTAMP:20260419T150204
CREATED:20230206T234725Z
LAST-MODIFIED:20230206T234725Z
UID:5408-1687420800-1687453200@merafesolutions.co.za
SUMMARY:Effective Presentation Skills Training
DESCRIPTION:Open Hosted \nEffective Presentation Skills is a highly practical course that will enable you to develop core presentation skills and give you the opportunity to practise these skills in a safe and friendly environment. \nCourse Outcomes: \n\nThe confidence to deliver effective presentations\nStrategies for managing nerves\nA clear framework for structuring a presentation\nMethods for highlighting and emphasising key messages\nThe skills to use and control your voice more effectively when giving presentations\nPractical techniques to interpret and engage your audience
URL:https://merafesolutions.co.za/event/effective-presentation-skills-training-11/
LOCATION:Gauteng
END:VEVENT
BEGIN:VEVENT
DTSTART;TZID=UTC:20230621T090000
DTEND;TZID=UTC:20230621T140000
DTSTAMP:20260419T150204
CREATED:20230207T002707Z
LAST-MODIFIED:20230207T002707Z
UID:5474-1687338000-1687356000@merafesolutions.co.za
SUMMARY:Performance Detox Master Class
DESCRIPTION:Open Hosted \nImprove the performance of your team by getting everyone motivated to give their best\, creating the\nfoundation for immediate positive change.\nGet rid of negative attitudes and habits!
URL:https://merafesolutions.co.za/event/performance-detox-master-class-10/
LOCATION:Gauteng
END:VEVENT
BEGIN:VEVENT
DTSTART;TZID=UTC:20230620T080000
DTEND;TZID=UTC:20230620T150000
DTSTAMP:20260419T150205
CREATED:20230206T232453Z
LAST-MODIFIED:20230206T232453Z
UID:5366-1687248000-1687273200@merafesolutions.co.za
SUMMARY:Business Communication Skills Training
DESCRIPTION:Open Hosted Workshop \nCommunication Skills is a cornerstone of all our interpersonal relationships and the foundation of all areas of effectiveness in our lives. Our Communication Course is highly practical and will enable you to develop written and verbal communication skills and give you the opportunity to practise these skills in a safe and friendly environment. \nCourse Outcomes: \n\nProject a professional\, positive personal image\nLearn how to use positive language\nSelect and apply the correct communication channel\nEnsure your communication has a clear purpose and objective\nCommunicating with audience\nInterpreting written communication\nWriting for communication purposes\nDevelop confidence in giving and receiving feedback
URL:https://merafesolutions.co.za/event/business-communication-skills-training-11/
LOCATION:Gauteng
END:VEVENT
BEGIN:VEVENT
DTSTART;TZID=UTC:20230616T090000
DTEND;TZID=UTC:20230616T140000
DTSTAMP:20260419T150205
CREATED:20230207T005055Z
LAST-MODIFIED:20230207T005055Z
UID:5516-1686906000-1686924000@merafesolutions.co.za
SUMMARY:Salt and Pepper Master Class
DESCRIPTION:Personality Styles\nStrategic Planning\nCreating Personal Culture
URL:https://merafesolutions.co.za/event/salt-and-pepper-master-class-10/
LOCATION:Gauteng
END:VEVENT
BEGIN:VEVENT
DTSTART;TZID=UTC:20230616T090000
DTEND;TZID=UTC:20230616T140000
DTSTAMP:20260419T150205
CREATED:20230207T004023Z
LAST-MODIFIED:20230207T004023Z
UID:5494-1686906000-1686924000@merafesolutions.co.za
SUMMARY:Self Awareness Master Class
DESCRIPTION:Taking Ownership of your Life\nPersonal Branding\nSettling into a New Mental Space
URL:https://merafesolutions.co.za/event/self-awareness-master-class-10/
LOCATION:Gauteng
END:VEVENT
END:VCALENDAR